BEGIN:VCALENDAR
VERSION:2.0
PRODID:-//Szwajcaria Bałtowska - ECPv6.15.20//NONSGML v1.0//EN
CALSCALE:GREGORIAN
METHOD:PUBLISH
X-WR-CALNAME:Szwajcaria Bałtowska
X-ORIGINAL-URL:https://szwajcariabaltowska.pl
X-WR-CALDESC:Wydarzenia dla Szwajcaria Bałtowska
REFRESH-INTERVAL;VALUE=DURATION:PT1H
X-Robots-Tag:noindex
X-PUBLISHED-TTL:PT1H
BEGIN:VTIMEZONE
TZID:Europe/Warsaw
BEGIN:DAYLIGHT
TZOFFSETFROM:+0100
TZOFFSETTO:+0200
TZNAME:CEST
DTSTART:20240331T010000
END:DAYLIGHT
BEGIN:STANDARD
TZOFFSETFROM:+0200
TZOFFSETTO:+0100
TZNAME:CET
DTSTART:20241027T010000
END:STANDARD
BEGIN:DAYLIGHT
TZOFFSETFROM:+0100
TZOFFSETTO:+0200
TZNAME:CEST
DTSTART:20250330T010000
END:DAYLIGHT
BEGIN:STANDARD
TZOFFSETFROM:+0200
TZOFFSETTO:+0100
TZNAME:CET
DTSTART:20251026T010000
END:STANDARD
BEGIN:DAYLIGHT
TZOFFSETFROM:+0100
TZOFFSETTO:+0200
TZNAME:CEST
DTSTART:20260329T010000
END:DAYLIGHT
BEGIN:STANDARD
TZOFFSETFROM:+0200
TZOFFSETTO:+0100
TZNAME:CET
DTSTART:20261025T010000
END:STANDARD
END:VTIMEZONE
BEGIN:VEVENT
DTSTART;TZID=Europe/Warsaw:20250125T200000
DTEND;TZID=Europe/Warsaw:20250126T000000
DTSTAMP:20260419T152138
CREATED:20250120T140746Z
LAST-MODIFIED:20250120T140746Z
UID:15096-1737835200-1737849600@szwajcariabaltowska.pl
SUMMARY:Nocna Jazda 25 stycznia
DESCRIPTION:Zapraszamy na kolejną Nocną Jazdę w Szwajcarii Bałtowskiej! Czekają na Was wieczorne zjazdy\, muzyka na żywo z zimowymi hitami oraz relaks przy ognisku i w strefie gastronomicznej. \n📅 Data: Najbliższa sobota\, godz. 20:00–24:00\n💸 Karnet: 65 zł/4 godz. \nDołączcie\, by połączyć miłość do nart z niezapomnianą atmosferą oświetlonego stoku i klubowych rytmów.\nNocna Jazda to gwarancja wspaniałych wrażeń i zimowej zabawy!
URL:https://szwajcariabaltowska.pl/kalendarz/nocna-jazda-25-stycznia/
ATTACH;FMTTYPE=image/png:https://szwajcariabaltowska.pl/wp-content/uploads/2025/01/Post-FB-Nocna-Jazda-1.png
END:VEVENT
END:VCALENDAR