BEGIN:VCALENDAR
VERSION:2.0
PRODID:-//Szwajcaria Bałtowska - ECPv6.15.20//NONSGML v1.0//EN
CALSCALE:GREGORIAN
METHOD:PUBLISH
X-ORIGINAL-URL:https://szwajcariabaltowska.pl
X-WR-CALDESC:Wydarzenia dla Szwajcaria Bałtowska
REFRESH-INTERVAL;VALUE=DURATION:PT1H
X-Robots-Tag:noindex
X-PUBLISHED-TTL:PT1H
BEGIN:VTIMEZONE
TZID:Europe/Warsaw
BEGIN:DAYLIGHT
TZOFFSETFROM:+0100
TZOFFSETTO:+0200
TZNAME:CEST
DTSTART:20240331T010000
END:DAYLIGHT
BEGIN:STANDARD
TZOFFSETFROM:+0200
TZOFFSETTO:+0100
TZNAME:CET
DTSTART:20241027T010000
END:STANDARD
BEGIN:DAYLIGHT
TZOFFSETFROM:+0100
TZOFFSETTO:+0200
TZNAME:CEST
DTSTART:20250330T010000
END:DAYLIGHT
BEGIN:STANDARD
TZOFFSETFROM:+0200
TZOFFSETTO:+0100
TZNAME:CET
DTSTART:20251026T010000
END:STANDARD
BEGIN:DAYLIGHT
TZOFFSETFROM:+0100
TZOFFSETTO:+0200
TZNAME:CEST
DTSTART:20260329T010000
END:DAYLIGHT
BEGIN:STANDARD
TZOFFSETFROM:+0200
TZOFFSETTO:+0100
TZNAME:CET
DTSTART:20261025T010000
END:STANDARD
END:VTIMEZONE
BEGIN:VEVENT
DTSTART;TZID=Europe/Warsaw:20250208T190000
DTEND;TZID=Europe/Warsaw:20250208T235900
DTSTAMP:20260419T171318
CREATED:20250203T140023Z
LAST-MODIFIED:20250206T133332Z
UID:15344-1739041200-1739059140@szwajcariabaltowska.pl
SUMMARY:SnowParty x ORW Nocna Jazda
DESCRIPTION:Snow Party w Szwajcarii Bałtowskiej – przebierana impreza na stoku ❄️🎧🎭\nTakiego wydarzenia jeszcze u nas nie było! Snow Party x ORW w Szwajcarii Bałtowskiej to będzie największa klubowa impreza na śnieżnym parkiecie stoku Szwajcarii Bałtowskiej! Partnerem wydarzenia jest ORW Festiwal – gwarantujemy więc najlepsze bity i hity grane na żywo przez cudownych Dj-ów. \nTo nie tylko nocna jazda. To również szalona\, przebierana impreza na śniegu! Przygotujcie kreatywne stroje\, zbierzcie ekipę i wpadajcie na najlepszą zimową zabawę tego sezonu! \n👉 Co na Was czeka?\n🎶 Aż 3 DJ-ów na żywo! Muzyka\, która będzie towarzyszyła Wam podczas zjazdów lub szalonych tańców na stoku\n🎭 Konkurs na najlepsze przebranie! Zaskocz wszystkich i zgarnij nagrody!\n🛷 Zimowe konkurencje przygotuj się na  szalone wyzwania.\n⛷️ Nocna jazda na stoku! Zmieniamy godziny – bawimy się od 19:00 do 24:00!\n🔥 Ognisko i strefa gastro – miejsce na chwilę relaksu i rozgrzewające przekąski. \n🎟 Bilety:\n🎫 4-godzinny karnet – 65 zł\n🎫 5-godzinny karnet – 75 zł \n📅 Kiedy? 8 lutego 2025. \nPrzygotujcie oryginalne stroje\, naostrzcie krawędzie nart i snowboardów i dołączcie do Snow Party – imprezy\, której nie zapomnicie! \nDo zobaczenia na stoku! 🎿❄️🎧 \nRegulamin wydarzenia 
URL:https://szwajcariabaltowska.pl/kalendarz/snowparty-x-orw-nocna-jazda/
ATTACH;FMTTYPE=image/jpeg:https://szwajcariabaltowska.pl/wp-content/uploads/2025/02/SNOW-PARTY-x-ORW-1200x628-v3.jpg
END:VEVENT
END:VCALENDAR