BEGIN:VCALENDAR
VERSION:2.0
PRODID:-//Szwajcaria Bałtowska - ECPv6.15.20//NONSGML v1.0//EN
CALSCALE:GREGORIAN
METHOD:PUBLISH
X-WR-CALNAME:Szwajcaria Bałtowska
X-ORIGINAL-URL:https://szwajcariabaltowska.pl
X-WR-CALDESC:Wydarzenia dla Szwajcaria Bałtowska
REFRESH-INTERVAL;VALUE=DURATION:PT1H
X-Robots-Tag:noindex
X-PUBLISHED-TTL:PT1H
BEGIN:VTIMEZONE
TZID:Europe/Warsaw
BEGIN:DAYLIGHT
TZOFFSETFROM:+0100
TZOFFSETTO:+0200
TZNAME:CEST
DTSTART:20210328T010000
END:DAYLIGHT
BEGIN:STANDARD
TZOFFSETFROM:+0200
TZOFFSETTO:+0100
TZNAME:CET
DTSTART:20211031T010000
END:STANDARD
BEGIN:DAYLIGHT
TZOFFSETFROM:+0100
TZOFFSETTO:+0200
TZNAME:CEST
DTSTART:20220327T010000
END:DAYLIGHT
BEGIN:STANDARD
TZOFFSETFROM:+0200
TZOFFSETTO:+0100
TZNAME:CET
DTSTART:20221030T010000
END:STANDARD
BEGIN:DAYLIGHT
TZOFFSETFROM:+0100
TZOFFSETTO:+0200
TZNAME:CEST
DTSTART:20230326T010000
END:DAYLIGHT
BEGIN:STANDARD
TZOFFSETFROM:+0200
TZOFFSETTO:+0100
TZNAME:CET
DTSTART:20231029T010000
END:STANDARD
END:VTIMEZONE
BEGIN:VEVENT
DTSTART;VALUE=DATE:20220123
DTEND;VALUE=DATE:20220124
DTSTAMP:20260420T101259
CREATED:20211220T074930Z
LAST-MODIFIED:20220114T131733Z
UID:9482-1642896000-1642982399@szwajcariabaltowska.pl
SUMMARY:Mini Olimpiada Szwajcarii Bałtowskiej
DESCRIPTION:Spędź aktywnie i rodzinnie czas w Szwajcarii Bałtowskiej! Serdecznie zapraszamy na 4 edycję Mini Olimpiady Szwajcarii Bałtowskiej\, która odbędzie się 23 stycznia. Organizujemy wiele konkursów\, w różnych kategoriach wiekowych\, na czas: \n– slalom na nartach\, \n– slalom na snowboardzie\, \n– zjazd na sankach\, \n– zjazd na jabłuszkach. \nDla zwycięzców przewidywane nagrody. Zapisy na udział w konkursie\, będą realizowane w dniu wydarzenia – 23 stycznia\ni rozpoczną się o 9:30\, przy kolei krzesełkowej. \n*Aby zadbać o pełen profesjonalizm w konkursach slalom na nartach i slalom na snowboardzie posłużymy się profesjonalnym sprzętem do pomiaru czasu. \n**Osoby niepełnoletnie chcące wystartować w konkursach muszą posiadać zgodę opiekuna prawnego. \nGwarantujemy świetną atmosferę i zabawę o sportowym charakterze. \nUdział w wydarzeniu jest BEZPŁATNY. Każdy uczestnik Mini Olimpiady otrzyma pamiątkowy medal 🙂 \nHarmonogram Mini Olimpiady\n9.30 – Otwarcie biura zawodów i rejestracja zawodników \n10.30 – Zjazd na sankach w parach (1+1 dziecko+rodzic) – max 12 par w trzech turach \n11.00 – Zjazd na jabłuszku dla dzieci do 8 roku życia – max 12 osób w trzech turach \n11.30 – Slalom na nartach dla dzieci do 10 r. ż – max 12 os. \n12.00 – Slalom na snowboardzie dla dzieci w wieku do 10 r. ż. – max 12 os. \n12.30 – Slalom na nartach dla dzieci w wieku 11-12 lat – max 12 os. \n13.15 – ceremonia wręczania nagród \nProsimy o wcześniejsze zapoznanie się z REGULAMINEM MINI OLIMPIADY. \n 
URL:https://szwajcariabaltowska.pl/kalendarz/mini-olimpiada-szwajcarii-baltowskiej/
LOCATION:Szwajcaria Bałtowska
ATTACH;FMTTYPE=image/jpeg:https://szwajcariabaltowska.pl/wp-content/uploads/2022/01/Mini-Olimpiada-2022-1920x1080-1.jpg
END:VEVENT
BEGIN:VEVENT
DTSTART;TZID=Europe/Warsaw:20220115T200000
DTEND;TZID=Europe/Warsaw:20220116T000000
DTSTAMP:20260420T101259
CREATED:20211217T124103Z
LAST-MODIFIED:20220112T144858Z
UID:9469-1642276800-1642291200@szwajcariabaltowska.pl
SUMMARY:Nocna Jazda
DESCRIPTION:U nas nie ma nudy! Kolejna „Nocna Jazda”\, wydarzenie rozpocznie się o godzinie 20:00. Dodatkowo na stoku będzie czekać na Was niespodzianka – to wielka pneumatyczna poducha! Kochacie adrenalinę? Lubicie skakać na nartach/snowboardzie\, bądź chcielibyście popracować nad techniką swojego skoku\, a może pierwszy raz zrobić coś szalonego? Jeśli Wasza odpowiedź na wymienione pytania brzmi – TAK. Wpadajcie do Szwajcarii Bałtowskiej już w najbliższą sobotę. \nZasady każdemu dobrze znane: \nMUZYKA NA ŻYWO \n-zagra dla Was Dj Gomezzz \nSZUSUJEMY DO PÓŁNOCY \nInformujemy\, że Zajazd Przystocze będzie czynny do godziny 00:30. \nKorzystanie z poduchy jest CAŁKOWICIE BEZPŁATNE! \nPoduchę znajdziecie u podnóża trasy nr 4\, kolei krzesełkowej 🙂 \nOferujemy także karnet 4h w cenie 65 zł. \nProsimy również o wcześniejsze zapoznanie się z regulaminem. Regulamin.  \n  \n 
URL:https://szwajcariabaltowska.pl/kalendarz/nocna-jazda-3/
LOCATION:Szwajcaria Bałtowska
ATTACH;FMTTYPE=image/jpeg:https://szwajcariabaltowska.pl/wp-content/uploads/2021/12/NJ-15-stycznia.jpg
END:VEVENT
BEGIN:VEVENT
DTSTART;VALUE=DATE:20220115
DTEND;VALUE=DATE:20220117
DTSTAMP:20260420T101259
CREATED:20211228T142821Z
LAST-MODIFIED:20220110T111523Z
UID:9641-1642204800-1642377599@szwajcariabaltowska.pl
SUMMARY:Extreme Bang Bag w Szwajcarii Bałtowskiej
DESCRIPTION:Kochani mamy dla Was coś specjalnego! Już 15 i 16 stycznia na stoku Szwajcaria Bałtowska będziecie mogli wzbić się w powietrze na nartach/snowboardzie i bezpiecznie wylądować na wielkiej pneumatycznej poduszce!  \nJeśli kochacie adrenalinę\, dobrą zabawę i chcielibyście poczuć pozytywną energię\, a tym samym popracować nad swoją techniką skoku\, zapraszamy do Szwajcarii Bałtowskiej! To jedyna taka okazja\, nie czekajcie\, rezerwujcie swój czas już teraz i wpadajcie do Bałtowa. \nNajważniejsza informacja dla Was – z poduchy korzystacie CAŁKOWICIE BEZPŁATNIE. \nDo zobaczenia w Szwajcarii Bałtowskiej!
URL:https://szwajcariabaltowska.pl/kalendarz/extreme-bang-bag-w-szwajcarii-baltowskiej/
LOCATION:Szwajcaria Bałtowska
ATTACH;FMTTYPE=image/jpeg:https://szwajcariabaltowska.pl/wp-content/uploads/2021/12/EBB-2022-1920x1080-2.jpg
END:VEVENT
END:VCALENDAR