BEGIN:VCALENDAR
VERSION:2.0
PRODID:-//Szwajcaria Bałtowska - ECPv6.15.20//NONSGML v1.0//EN
CALSCALE:GREGORIAN
METHOD:PUBLISH
X-ORIGINAL-URL:https://szwajcariabaltowska.pl
X-WR-CALDESC:Wydarzenia dla Szwajcaria Bałtowska
REFRESH-INTERVAL;VALUE=DURATION:PT1H
X-Robots-Tag:noindex
X-PUBLISHED-TTL:PT1H
BEGIN:VTIMEZONE
TZID:Europe/Warsaw
BEGIN:DAYLIGHT
TZOFFSETFROM:+0100
TZOFFSETTO:+0200
TZNAME:CEST
DTSTART:20200329T010000
END:DAYLIGHT
BEGIN:STANDARD
TZOFFSETFROM:+0200
TZOFFSETTO:+0100
TZNAME:CET
DTSTART:20201025T010000
END:STANDARD
BEGIN:DAYLIGHT
TZOFFSETFROM:+0100
TZOFFSETTO:+0200
TZNAME:CEST
DTSTART:20210328T010000
END:DAYLIGHT
BEGIN:STANDARD
TZOFFSETFROM:+0200
TZOFFSETTO:+0100
TZNAME:CET
DTSTART:20211031T010000
END:STANDARD
BEGIN:DAYLIGHT
TZOFFSETFROM:+0100
TZOFFSETTO:+0200
TZNAME:CEST
DTSTART:20220327T010000
END:DAYLIGHT
BEGIN:STANDARD
TZOFFSETFROM:+0200
TZOFFSETTO:+0100
TZNAME:CET
DTSTART:20221030T010000
END:STANDARD
END:VTIMEZONE
BEGIN:VEVENT
DTSTART;VALUE=DATE:20211225
DTEND;VALUE=DATE:20211226
DTSTAMP:20260419T193615
CREATED:20211220T113725Z
LAST-MODIFIED:20211223T100514Z
UID:9522-1640390400-1640476799@szwajcariabaltowska.pl
SUMMARY:Ice Show vol. 3 Lodowisko Szwajcarii Bałtowskiej
DESCRIPTION:To będzie prawdziwa magia świąt. Pamiętacie pokazy łyżwiarstwa figurowego na naturalnym lodowisku w Szwajcarii Bałtowskiej? Jeśli jesteście ich fanami\, to mamy dla Was wspaniałe wiadomości. Już 25 grudnia zapraszamy na pokazy łyżwiarstwa – jedyne takie wydarzenie w regionie! \nW tych dniach czekają na Was występny Mistrzów Polski w łyżwiarstwie figurowym. Animatorzy wprowadzą Was w świat bajek\, a tym samym magii. W tych dniach występy będą owiane tajemnicą\, możemy zdradzić\, że na lodowisku zobaczycie bajkową Elzę i Anne\, bądź Mikołaja w towarzystwie swoich elfów. Na kogo traficie podczas wizyty w Szwajcarii Bałtowskiej? Tego dowiecie się na miejscu 🙂 \nHarmonogram pokazów 25.12.2021 r\n-pierwszy pokaz rozpocznie się o godzinie 13:30\, kolejno 15:30 oraz 17:30 \n-maskotki na lodzie \nPrzypominamy. Pokazy trwają 7 minut\, dlatego pamiętajcie o punktualności! \nNasze lodowisko  w tym sezonie zostało powiększone do 900m2. \nUdział w pokazach jest bezpłatny. \nKliknij i sprawdź godziny otwarcia lodowiska i ceny biletów.
URL:https://szwajcariabaltowska.pl/kalendarz/ice-show-vol-3-lodowisko-szwajcarii-baltowskiej/
LOCATION:Szwajcaria Bałtowska
ATTACH;FMTTYPE=image/jpeg:https://szwajcariabaltowska.pl/wp-content/uploads/2021/12/Ice-Show-1920x1080-kopia.jpg
END:VEVENT
END:VCALENDAR